BEGIN:VCALENDAR
VERSION:2.0
PRODID:-// - ECPv6.15.20//NONSGML v1.0//EN
CALSCALE:GREGORIAN
METHOD:PUBLISH
X-ORIGINAL-URL:https://braingymcanada.ca
X-WR-CALDESC:Events for 
REFRESH-INTERVAL;VALUE=DURATION:PT1H
X-Robots-Tag:noindex
X-PUBLISHED-TTL:PT1H
BEGIN:VTIMEZONE
TZID:America/Toronto
BEGIN:DAYLIGHT
TZOFFSETFROM:-0500
TZOFFSETTO:-0400
TZNAME:EDT
DTSTART:20230312T070000
END:DAYLIGHT
BEGIN:STANDARD
TZOFFSETFROM:-0400
TZOFFSETTO:-0500
TZNAME:EST
DTSTART:20231105T060000
END:STANDARD
BEGIN:DAYLIGHT
TZOFFSETFROM:-0500
TZOFFSETTO:-0400
TZNAME:EDT
DTSTART:20240310T070000
END:DAYLIGHT
BEGIN:STANDARD
TZOFFSETFROM:-0400
TZOFFSETTO:-0500
TZNAME:EST
DTSTART:20241103T060000
END:STANDARD
BEGIN:DAYLIGHT
TZOFFSETFROM:-0500
TZOFFSETTO:-0400
TZNAME:EDT
DTSTART:20250309T070000
END:DAYLIGHT
BEGIN:STANDARD
TZOFFSETFROM:-0400
TZOFFSETTO:-0500
TZNAME:EST
DTSTART:20251102T060000
END:STANDARD
END:VTIMEZONE
BEGIN:VEVENT
DTSTART;TZID=America/Toronto:20240502T190000
DTEND;TZID=America/Toronto:20240502T220000
DTSTAMP:20260423T100614
CREATED:20240312T211244Z
LAST-MODIFIED:20240313T184854Z
UID:10001578-1714676400-1714687200@braingymcanada.ca
SUMMARY:Brain Gym 101
DESCRIPTION:Experience whole-brain integration through whole-body movement. Learn the 26 Brain Gym® activities\, Edu-K’s Five Steps to Easy Learning\, and Dennison Laterality Repatterning as you discover an exciting tool for reaching personal goals. What this course teaches can be applied by students\, teachers\, parents\, artists\, athletes\, healthcare workers\, seniors\, business professionals . . . you name it!  This is the foundational course of Brain Gym®\, and is a pre-requisite for most of the other Brain Gym® courses.  Brain Gym®104: The 26 Movements is recommended as a pre-requisite to Brain Gym®101\, but not required. \nThis course counts for 24 required credits towards Brain Gym® Consultant/Instructor licensure\, and is also required for Brain Gym Movement Facilitator certification. \n$450 regular rate\, includes course manual\n$425 discounted rate for Brain Gym Canada members\n$225 for repeat participants\, does not include course manual
URL:https://braingymcanada.ca/course/brain-gym-101-4/2024-05-02/
LOCATION:Zoom\, zoom.us
CATEGORIES:Brain Gym 101
ATTACH;FMTTYPE=image/png:https://braingymcanada.ca/wp-content/uploads/2024/03/BG101-Instagram-Post-Square2.png
ORGANIZER;CN="Sonya Sommerville":MAILTO:sonya@beatofadifferentdrum.com
END:VEVENT
BEGIN:VEVENT
DTSTART;TZID=America/Toronto:20240507T190000
DTEND;TZID=America/Toronto:20240507T220000
DTSTAMP:20260423T100614
CREATED:20240312T211244Z
LAST-MODIFIED:20240313T184854Z
UID:10001579-1715108400-1715119200@braingymcanada.ca
SUMMARY:Brain Gym 101
DESCRIPTION:Experience whole-brain integration through whole-body movement. Learn the 26 Brain Gym® activities\, Edu-K’s Five Steps to Easy Learning\, and Dennison Laterality Repatterning as you discover an exciting tool for reaching personal goals. What this course teaches can be applied by students\, teachers\, parents\, artists\, athletes\, healthcare workers\, seniors\, business professionals . . . you name it!  This is the foundational course of Brain Gym®\, and is a pre-requisite for most of the other Brain Gym® courses.  Brain Gym®104: The 26 Movements is recommended as a pre-requisite to Brain Gym®101\, but not required. \nThis course counts for 24 required credits towards Brain Gym® Consultant/Instructor licensure\, and is also required for Brain Gym Movement Facilitator certification. \n$450 regular rate\, includes course manual\n$425 discounted rate for Brain Gym Canada members\n$225 for repeat participants\, does not include course manual
URL:https://braingymcanada.ca/course/brain-gym-101-4/2024-05-07/
LOCATION:Zoom\, zoom.us
CATEGORIES:Brain Gym 101
ATTACH;FMTTYPE=image/png:https://braingymcanada.ca/wp-content/uploads/2024/03/BG101-Instagram-Post-Square2.png
ORGANIZER;CN="Sonya Sommerville":MAILTO:sonya@beatofadifferentdrum.com
END:VEVENT
BEGIN:VEVENT
DTSTART;TZID=America/Toronto:20240514T190000
DTEND;TZID=America/Toronto:20240514T220000
DTSTAMP:20260423T100614
CREATED:20240312T211244Z
LAST-MODIFIED:20240313T184854Z
UID:10001580-1715713200-1715724000@braingymcanada.ca
SUMMARY:Brain Gym 101
DESCRIPTION:Experience whole-brain integration through whole-body movement. Learn the 26 Brain Gym® activities\, Edu-K’s Five Steps to Easy Learning\, and Dennison Laterality Repatterning as you discover an exciting tool for reaching personal goals. What this course teaches can be applied by students\, teachers\, parents\, artists\, athletes\, healthcare workers\, seniors\, business professionals . . . you name it!  This is the foundational course of Brain Gym®\, and is a pre-requisite for most of the other Brain Gym® courses.  Brain Gym®104: The 26 Movements is recommended as a pre-requisite to Brain Gym®101\, but not required. \nThis course counts for 24 required credits towards Brain Gym® Consultant/Instructor licensure\, and is also required for Brain Gym Movement Facilitator certification. \n$450 regular rate\, includes course manual\n$425 discounted rate for Brain Gym Canada members\n$225 for repeat participants\, does not include course manual
URL:https://braingymcanada.ca/course/brain-gym-101-4/2024-05-14/
LOCATION:Zoom\, zoom.us
CATEGORIES:Brain Gym 101
ATTACH;FMTTYPE=image/png:https://braingymcanada.ca/wp-content/uploads/2024/03/BG101-Instagram-Post-Square2.png
ORGANIZER;CN="Sonya Sommerville":MAILTO:sonya@beatofadifferentdrum.com
END:VEVENT
BEGIN:VEVENT
DTSTART;TZID=America/Toronto:20240521T190000
DTEND;TZID=America/Toronto:20240521T220000
DTSTAMP:20260423T100614
CREATED:20240313T194530Z
LAST-MODIFIED:20240504T144149Z
UID:10001664-1716318000-1716328800@braingymcanada.ca
SUMMARY:BG104: The 26 Movements
DESCRIPTION:This course is a great way to learn of all 26 of the core Brain Gym® movements\, their variations\, applications\, and skills/functions they support. Especially useful for parents\, teachers\, early childhood educators\, therapists and wellness seekers. Open to all!  A great companion program to Brain Gym 101®. \n16 hours to explore the Brain Gym principles and take away simple and fun tools to:\n     Promote learning\n     Release physical\, emotional and psychological tension\n     Develop effective communication and observation skills\n     Experience the integrated states that support academic and motor learning\n     Explore the 3 dimensions of movement through the 4 categories of the 26 Brain Gym® movements \nRegular rate $300\nReduced rate for Brain Gym Canada Members $275\nRepeat rate $150\nExcept for the repeat rate\, the course manual is included in the above prices.
URL:https://braingymcanada.ca/course/bg104-the-26-movements/2024-05-21/
LOCATION:Zoom\, zoom.us
CATEGORIES:26 Movements
ATTACH;FMTTYPE=image/png:https://braingymcanada.ca/wp-content/uploads/2024/03/BG104-Parent-Ad-Instagram-Post-Square.png
ORGANIZER;CN="Sonya Sommerville":MAILTO:sonya@beatofadifferentdrum.com
END:VEVENT
BEGIN:VEVENT
DTSTART;TZID=America/Toronto:20240523T190000
DTEND;TZID=America/Toronto:20240523T220000
DTSTAMP:20260423T100614
CREATED:20240313T194530Z
LAST-MODIFIED:20240504T144149Z
UID:10001665-1716490800-1716501600@braingymcanada.ca
SUMMARY:BG104: The 26 Movements
DESCRIPTION:This course is a great way to learn of all 26 of the core Brain Gym® movements\, their variations\, applications\, and skills/functions they support. Especially useful for parents\, teachers\, early childhood educators\, therapists and wellness seekers. Open to all!  A great companion program to Brain Gym 101®. \n16 hours to explore the Brain Gym principles and take away simple and fun tools to:\n     Promote learning\n     Release physical\, emotional and psychological tension\n     Develop effective communication and observation skills\n     Experience the integrated states that support academic and motor learning\n     Explore the 3 dimensions of movement through the 4 categories of the 26 Brain Gym® movements \nRegular rate $300\nReduced rate for Brain Gym Canada Members $275\nRepeat rate $150\nExcept for the repeat rate\, the course manual is included in the above prices.
URL:https://braingymcanada.ca/course/bg104-the-26-movements/2024-05-23/
LOCATION:Zoom\, zoom.us
CATEGORIES:26 Movements
ATTACH;FMTTYPE=image/png:https://braingymcanada.ca/wp-content/uploads/2024/03/BG104-Parent-Ad-Instagram-Post-Square.png
ORGANIZER;CN="Sonya Sommerville":MAILTO:sonya@beatofadifferentdrum.com
END:VEVENT
END:VCALENDAR