BEGIN:VCALENDAR
VERSION:2.0
PRODID:-// - ECPv6.15.20//NONSGML v1.0//EN
CALSCALE:GREGORIAN
METHOD:PUBLISH
X-ORIGINAL-URL:https://braingymcanada.ca
X-WR-CALDESC:Events for 
REFRESH-INTERVAL;VALUE=DURATION:PT1H
X-Robots-Tag:noindex
X-PUBLISHED-TTL:PT1H
BEGIN:VTIMEZONE
TZID:America/Toronto
BEGIN:DAYLIGHT
TZOFFSETFROM:-0500
TZOFFSETTO:-0400
TZNAME:EDT
DTSTART:20230312T070000
END:DAYLIGHT
BEGIN:STANDARD
TZOFFSETFROM:-0400
TZOFFSETTO:-0500
TZNAME:EST
DTSTART:20231105T060000
END:STANDARD
BEGIN:DAYLIGHT
TZOFFSETFROM:-0500
TZOFFSETTO:-0400
TZNAME:EDT
DTSTART:20240310T070000
END:DAYLIGHT
BEGIN:STANDARD
TZOFFSETFROM:-0400
TZOFFSETTO:-0500
TZNAME:EST
DTSTART:20241103T060000
END:STANDARD
BEGIN:DAYLIGHT
TZOFFSETFROM:-0500
TZOFFSETTO:-0400
TZNAME:EDT
DTSTART:20250309T070000
END:DAYLIGHT
BEGIN:STANDARD
TZOFFSETFROM:-0400
TZOFFSETTO:-0500
TZNAME:EST
DTSTART:20251102T060000
END:STANDARD
END:VTIMEZONE
BEGIN:VEVENT
DTSTART;TZID=America/Toronto:20240404T180000
DTEND;TZID=America/Toronto:20240404T210000
DTSTAMP:20260423T113138
CREATED:20240210T154711Z
LAST-MODIFIED:20240210T160257Z
UID:10001515-1712253600-1712264400@braingymcanada.ca
SUMMARY:Brain Gym 101
DESCRIPTION:Faites l’expérience de l’intégration de tout le cerveau grâce aux mouvements de tout le corps. Apprenez les 26 activités Brain Gym\, les cinq étapes d’Edu-K pour un apprentissage facile et le remodelage latéral de Dennison tout en découvrant un outil passionnant pour atteindre vos objectifs personnels. Ce que ce cours transmet peut être appliqué par les étudiants\, les enseignants\, les parents\, les artistes\, les athlètes\, les travailleurs de la santé\, les professionnels du monde des affaires. . . vous l’appelez! (Les prix des cours varient selon l’instructeur et l’emplacement. Veuillez contacter le sponsor pour connaître le prix actuel.) REMARQUE : Si vous ne parvenez pas à trouver un cours de Brain Gym dans votre région\, consultez « instructeurs disposés à voyager » dans le menu des instructeurs.
URL:https://braingymcanada.ca/course/brain-gym-101-3/2024-04-04/
LOCATION:Online
CATEGORIES:Brain Gym 101
ORGANIZER;CN="Lysanne Dugr%C3%A9":MAILTO:alessentiel.lysanne@gmail.com
END:VEVENT
BEGIN:VEVENT
DTSTART;TZID=America/Toronto:20240411T180000
DTEND;TZID=America/Toronto:20240411T210000
DTSTAMP:20260423T113138
CREATED:20240210T154711Z
LAST-MODIFIED:20240210T160257Z
UID:10001516-1712858400-1712869200@braingymcanada.ca
SUMMARY:Brain Gym 101
DESCRIPTION:Faites l’expérience de l’intégration de tout le cerveau grâce aux mouvements de tout le corps. Apprenez les 26 activités Brain Gym\, les cinq étapes d’Edu-K pour un apprentissage facile et le remodelage latéral de Dennison tout en découvrant un outil passionnant pour atteindre vos objectifs personnels. Ce que ce cours transmet peut être appliqué par les étudiants\, les enseignants\, les parents\, les artistes\, les athlètes\, les travailleurs de la santé\, les professionnels du monde des affaires. . . vous l’appelez! (Les prix des cours varient selon l’instructeur et l’emplacement. Veuillez contacter le sponsor pour connaître le prix actuel.) REMARQUE : Si vous ne parvenez pas à trouver un cours de Brain Gym dans votre région\, consultez « instructeurs disposés à voyager » dans le menu des instructeurs.
URL:https://braingymcanada.ca/course/brain-gym-101-3/2024-04-11/
LOCATION:Online
CATEGORIES:Brain Gym 101
ORGANIZER;CN="Lysanne Dugr%C3%A9":MAILTO:alessentiel.lysanne@gmail.com
END:VEVENT
BEGIN:VEVENT
DTSTART;TZID=America/Toronto:20240416T190000
DTEND;TZID=America/Toronto:20240416T220000
DTSTAMP:20260423T113138
CREATED:20240312T211244Z
LAST-MODIFIED:20240313T184854Z
UID:10001551-1713294000-1713304800@braingymcanada.ca
SUMMARY:Brain Gym 101
DESCRIPTION:Experience whole-brain integration through whole-body movement. Learn the 26 Brain Gym® activities\, Edu-K’s Five Steps to Easy Learning\, and Dennison Laterality Repatterning as you discover an exciting tool for reaching personal goals. What this course teaches can be applied by students\, teachers\, parents\, artists\, athletes\, healthcare workers\, seniors\, business professionals . . . you name it!  This is the foundational course of Brain Gym®\, and is a pre-requisite for most of the other Brain Gym® courses.  Brain Gym®104: The 26 Movements is recommended as a pre-requisite to Brain Gym®101\, but not required. \nThis course counts for 24 required credits towards Brain Gym® Consultant/Instructor licensure\, and is also required for Brain Gym Movement Facilitator certification. \n$450 regular rate\, includes course manual\n$425 discounted rate for Brain Gym Canada members\n$225 for repeat participants\, does not include course manual
URL:https://braingymcanada.ca/course/brain-gym-101-4/2024-04-16/
LOCATION:Zoom\, zoom.us
CATEGORIES:Brain Gym 101
ATTACH;FMTTYPE=image/png:https://braingymcanada.ca/wp-content/uploads/2024/03/BG101-Instagram-Post-Square2.png
ORGANIZER;CN="Sonya Sommerville":MAILTO:sonya@beatofadifferentdrum.com
END:VEVENT
BEGIN:VEVENT
DTSTART;TZID=America/Toronto:20240418T180000
DTEND;TZID=America/Toronto:20240418T210000
DTSTAMP:20260423T113138
CREATED:20240210T154711Z
LAST-MODIFIED:20240210T160257Z
UID:10001517-1713463200-1713474000@braingymcanada.ca
SUMMARY:Brain Gym 101
DESCRIPTION:Faites l’expérience de l’intégration de tout le cerveau grâce aux mouvements de tout le corps. Apprenez les 26 activités Brain Gym\, les cinq étapes d’Edu-K pour un apprentissage facile et le remodelage latéral de Dennison tout en découvrant un outil passionnant pour atteindre vos objectifs personnels. Ce que ce cours transmet peut être appliqué par les étudiants\, les enseignants\, les parents\, les artistes\, les athlètes\, les travailleurs de la santé\, les professionnels du monde des affaires. . . vous l’appelez! (Les prix des cours varient selon l’instructeur et l’emplacement. Veuillez contacter le sponsor pour connaître le prix actuel.) REMARQUE : Si vous ne parvenez pas à trouver un cours de Brain Gym dans votre région\, consultez « instructeurs disposés à voyager » dans le menu des instructeurs.
URL:https://braingymcanada.ca/course/brain-gym-101-3/2024-04-18/
LOCATION:Online
CATEGORIES:Brain Gym 101
ORGANIZER;CN="Lysanne Dugr%C3%A9":MAILTO:alessentiel.lysanne@gmail.com
END:VEVENT
BEGIN:VEVENT
DTSTART;TZID=America/Toronto:20240418T190000
DTEND;TZID=America/Toronto:20240418T220000
DTSTAMP:20260423T113138
CREATED:20240312T211244Z
LAST-MODIFIED:20240313T184854Z
UID:10001552-1713466800-1713477600@braingymcanada.ca
SUMMARY:Brain Gym 101
DESCRIPTION:Experience whole-brain integration through whole-body movement. Learn the 26 Brain Gym® activities\, Edu-K’s Five Steps to Easy Learning\, and Dennison Laterality Repatterning as you discover an exciting tool for reaching personal goals. What this course teaches can be applied by students\, teachers\, parents\, artists\, athletes\, healthcare workers\, seniors\, business professionals . . . you name it!  This is the foundational course of Brain Gym®\, and is a pre-requisite for most of the other Brain Gym® courses.  Brain Gym®104: The 26 Movements is recommended as a pre-requisite to Brain Gym®101\, but not required. \nThis course counts for 24 required credits towards Brain Gym® Consultant/Instructor licensure\, and is also required for Brain Gym Movement Facilitator certification. \n$450 regular rate\, includes course manual\n$425 discounted rate for Brain Gym Canada members\n$225 for repeat participants\, does not include course manual
URL:https://braingymcanada.ca/course/brain-gym-101-4/2024-04-18/
LOCATION:Zoom\, zoom.us
CATEGORIES:Brain Gym 101
ATTACH;FMTTYPE=image/png:https://braingymcanada.ca/wp-content/uploads/2024/03/BG101-Instagram-Post-Square2.png
ORGANIZER;CN="Sonya Sommerville":MAILTO:sonya@beatofadifferentdrum.com
END:VEVENT
BEGIN:VEVENT
DTSTART;TZID=America/Toronto:20240423T190000
DTEND;TZID=America/Toronto:20240423T220000
DTSTAMP:20260423T113138
CREATED:20240312T211244Z
LAST-MODIFIED:20240313T184854Z
UID:10001575-1713898800-1713909600@braingymcanada.ca
SUMMARY:Brain Gym 101
DESCRIPTION:Experience whole-brain integration through whole-body movement. Learn the 26 Brain Gym® activities\, Edu-K’s Five Steps to Easy Learning\, and Dennison Laterality Repatterning as you discover an exciting tool for reaching personal goals. What this course teaches can be applied by students\, teachers\, parents\, artists\, athletes\, healthcare workers\, seniors\, business professionals . . . you name it!  This is the foundational course of Brain Gym®\, and is a pre-requisite for most of the other Brain Gym® courses.  Brain Gym®104: The 26 Movements is recommended as a pre-requisite to Brain Gym®101\, but not required. \nThis course counts for 24 required credits towards Brain Gym® Consultant/Instructor licensure\, and is also required for Brain Gym Movement Facilitator certification. \n$450 regular rate\, includes course manual\n$425 discounted rate for Brain Gym Canada members\n$225 for repeat participants\, does not include course manual
URL:https://braingymcanada.ca/course/brain-gym-101-4/2024-04-23/
LOCATION:Zoom\, zoom.us
CATEGORIES:Brain Gym 101
ATTACH;FMTTYPE=image/png:https://braingymcanada.ca/wp-content/uploads/2024/03/BG101-Instagram-Post-Square2.png
ORGANIZER;CN="Sonya Sommerville":MAILTO:sonya@beatofadifferentdrum.com
END:VEVENT
BEGIN:VEVENT
DTSTART;TZID=America/Toronto:20240425T180000
DTEND;TZID=America/Toronto:20240425T210000
DTSTAMP:20260423T113138
CREATED:20240210T154711Z
LAST-MODIFIED:20240210T160257Z
UID:10001518-1714068000-1714078800@braingymcanada.ca
SUMMARY:Brain Gym 101
DESCRIPTION:Faites l’expérience de l’intégration de tout le cerveau grâce aux mouvements de tout le corps. Apprenez les 26 activités Brain Gym\, les cinq étapes d’Edu-K pour un apprentissage facile et le remodelage latéral de Dennison tout en découvrant un outil passionnant pour atteindre vos objectifs personnels. Ce que ce cours transmet peut être appliqué par les étudiants\, les enseignants\, les parents\, les artistes\, les athlètes\, les travailleurs de la santé\, les professionnels du monde des affaires. . . vous l’appelez! (Les prix des cours varient selon l’instructeur et l’emplacement. Veuillez contacter le sponsor pour connaître le prix actuel.) REMARQUE : Si vous ne parvenez pas à trouver un cours de Brain Gym dans votre région\, consultez « instructeurs disposés à voyager » dans le menu des instructeurs.
URL:https://braingymcanada.ca/course/brain-gym-101-3/2024-04-25/
LOCATION:Online
CATEGORIES:Brain Gym 101
ORGANIZER;CN="Lysanne Dugr%C3%A9":MAILTO:alessentiel.lysanne@gmail.com
END:VEVENT
BEGIN:VEVENT
DTSTART;TZID=America/Toronto:20240425T190000
DTEND;TZID=America/Toronto:20240425T220000
DTSTAMP:20260423T113138
CREATED:20240312T211244Z
LAST-MODIFIED:20240313T184854Z
UID:10001576-1714071600-1714082400@braingymcanada.ca
SUMMARY:Brain Gym 101
DESCRIPTION:Experience whole-brain integration through whole-body movement. Learn the 26 Brain Gym® activities\, Edu-K’s Five Steps to Easy Learning\, and Dennison Laterality Repatterning as you discover an exciting tool for reaching personal goals. What this course teaches can be applied by students\, teachers\, parents\, artists\, athletes\, healthcare workers\, seniors\, business professionals . . . you name it!  This is the foundational course of Brain Gym®\, and is a pre-requisite for most of the other Brain Gym® courses.  Brain Gym®104: The 26 Movements is recommended as a pre-requisite to Brain Gym®101\, but not required. \nThis course counts for 24 required credits towards Brain Gym® Consultant/Instructor licensure\, and is also required for Brain Gym Movement Facilitator certification. \n$450 regular rate\, includes course manual\n$425 discounted rate for Brain Gym Canada members\n$225 for repeat participants\, does not include course manual
URL:https://braingymcanada.ca/course/brain-gym-101-4/2024-04-25/
LOCATION:Zoom\, zoom.us
CATEGORIES:Brain Gym 101
ATTACH;FMTTYPE=image/png:https://braingymcanada.ca/wp-content/uploads/2024/03/BG101-Instagram-Post-Square2.png
ORGANIZER;CN="Sonya Sommerville":MAILTO:sonya@beatofadifferentdrum.com
END:VEVENT
BEGIN:VEVENT
DTSTART;TZID=America/Toronto:20240430T190000
DTEND;TZID=America/Toronto:20240430T220000
DTSTAMP:20260423T113138
CREATED:20240312T211244Z
LAST-MODIFIED:20240313T184854Z
UID:10001577-1714503600-1714514400@braingymcanada.ca
SUMMARY:Brain Gym 101
DESCRIPTION:Experience whole-brain integration through whole-body movement. Learn the 26 Brain Gym® activities\, Edu-K’s Five Steps to Easy Learning\, and Dennison Laterality Repatterning as you discover an exciting tool for reaching personal goals. What this course teaches can be applied by students\, teachers\, parents\, artists\, athletes\, healthcare workers\, seniors\, business professionals . . . you name it!  This is the foundational course of Brain Gym®\, and is a pre-requisite for most of the other Brain Gym® courses.  Brain Gym®104: The 26 Movements is recommended as a pre-requisite to Brain Gym®101\, but not required. \nThis course counts for 24 required credits towards Brain Gym® Consultant/Instructor licensure\, and is also required for Brain Gym Movement Facilitator certification. \n$450 regular rate\, includes course manual\n$425 discounted rate for Brain Gym Canada members\n$225 for repeat participants\, does not include course manual
URL:https://braingymcanada.ca/course/brain-gym-101-4/2024-04-30/
LOCATION:Zoom\, zoom.us
CATEGORIES:Brain Gym 101
ATTACH;FMTTYPE=image/png:https://braingymcanada.ca/wp-content/uploads/2024/03/BG101-Instagram-Post-Square2.png
ORGANIZER;CN="Sonya Sommerville":MAILTO:sonya@beatofadifferentdrum.com
END:VEVENT
END:VCALENDAR