BEGIN:VCALENDAR
VERSION:2.0
PRODID:-// - ECPv6.15.20//NONSGML v1.0//EN
CALSCALE:GREGORIAN
METHOD:PUBLISH
X-ORIGINAL-URL:https://braingymcanada.ca
X-WR-CALDESC:Events for 
REFRESH-INTERVAL;VALUE=DURATION:PT1H
X-Robots-Tag:noindex
X-PUBLISHED-TTL:PT1H
BEGIN:VTIMEZONE
TZID:America/Toronto
BEGIN:DAYLIGHT
TZOFFSETFROM:-0500
TZOFFSETTO:-0400
TZNAME:EDT
DTSTART:20230312T070000
END:DAYLIGHT
BEGIN:STANDARD
TZOFFSETFROM:-0400
TZOFFSETTO:-0500
TZNAME:EST
DTSTART:20231105T060000
END:STANDARD
BEGIN:DAYLIGHT
TZOFFSETFROM:-0500
TZOFFSETTO:-0400
TZNAME:EDT
DTSTART:20240310T070000
END:DAYLIGHT
BEGIN:STANDARD
TZOFFSETFROM:-0400
TZOFFSETTO:-0500
TZNAME:EST
DTSTART:20241103T060000
END:STANDARD
BEGIN:DAYLIGHT
TZOFFSETFROM:-0500
TZOFFSETTO:-0400
TZNAME:EDT
DTSTART:20250309T070000
END:DAYLIGHT
BEGIN:STANDARD
TZOFFSETFROM:-0400
TZOFFSETTO:-0500
TZNAME:EST
DTSTART:20251102T060000
END:STANDARD
END:VTIMEZONE
BEGIN:VEVENT
DTSTART;TZID=America/Toronto:20240306T180000
DTEND;TZID=America/Toronto:20240306T210000
DTSTAMP:20260423T125836
CREATED:20240106T185222Z
LAST-MODIFIED:20240106T185222Z
UID:10001471-1709748000-1709758800@braingymcanada.ca
SUMMARY:Brain Gym 101 - online
DESCRIPTION:Experience whole-brain integration through whole-body movement! Learn the 26 Brain Gym activities\, Edu-K’s Five Steps to Easy Learning\, and Dennison Laterality Repatterning as you discover an exciting tool for reaching personal goals. This course is the gateway to the Movement-Based Learning Program known as Brain Gym®\, it is a practical and easily applied use of this approach. We begin to understand why learning difficulties may occur by observing our physical and emotional sensations\, thereby offering the possibility of changing the way we act and interact. Discover stress management tools and how to reach positive and motivating personal\, professional\, athletic\, artistic and developmental goals through the basic principles of Educational Kinesthetics.
URL:https://braingymcanada.ca/course/brain-gym-101-online/2024-03-06/
LOCATION:Online
CATEGORIES:26 Movements,Brain Gym 101
ATTACH;FMTTYPE=image/png:https://braingymcanada.ca/wp-content/uploads/2024/01/BG101-course-notice-no-dates-500-X-200-3.png
ORGANIZER;CN="Tanya Mouland":MAILTO:tanya@thesportoflife.ca
END:VEVENT
BEGIN:VEVENT
DTSTART;TZID=America/Toronto:20240307T180000
DTEND;TZID=America/Toronto:20240307T210000
DTSTAMP:20260423T125836
CREATED:20240210T154711Z
LAST-MODIFIED:20240210T160257Z
UID:10001511-1709834400-1709845200@braingymcanada.ca
SUMMARY:Brain Gym 101
DESCRIPTION:Faites l’expérience de l’intégration de tout le cerveau grâce aux mouvements de tout le corps. Apprenez les 26 activités Brain Gym\, les cinq étapes d’Edu-K pour un apprentissage facile et le remodelage latéral de Dennison tout en découvrant un outil passionnant pour atteindre vos objectifs personnels. Ce que ce cours transmet peut être appliqué par les étudiants\, les enseignants\, les parents\, les artistes\, les athlètes\, les travailleurs de la santé\, les professionnels du monde des affaires. . . vous l’appelez! (Les prix des cours varient selon l’instructeur et l’emplacement. Veuillez contacter le sponsor pour connaître le prix actuel.) REMARQUE : Si vous ne parvenez pas à trouver un cours de Brain Gym dans votre région\, consultez « instructeurs disposés à voyager » dans le menu des instructeurs.
URL:https://braingymcanada.ca/course/brain-gym-101-3/2024-03-07/
LOCATION:Online
CATEGORIES:Brain Gym 101
ORGANIZER;CN="Lysanne Dugr%C3%A9":MAILTO:alessentiel.lysanne@gmail.com
END:VEVENT
BEGIN:VEVENT
DTSTART;TZID=America/Toronto:20240313T180000
DTEND;TZID=America/Toronto:20240313T210000
DTSTAMP:20260423T125836
CREATED:20240106T185222Z
LAST-MODIFIED:20240106T185222Z
UID:10001472-1710352800-1710363600@braingymcanada.ca
SUMMARY:Brain Gym 101 - online
DESCRIPTION:Experience whole-brain integration through whole-body movement! Learn the 26 Brain Gym activities\, Edu-K’s Five Steps to Easy Learning\, and Dennison Laterality Repatterning as you discover an exciting tool for reaching personal goals. This course is the gateway to the Movement-Based Learning Program known as Brain Gym®\, it is a practical and easily applied use of this approach. We begin to understand why learning difficulties may occur by observing our physical and emotional sensations\, thereby offering the possibility of changing the way we act and interact. Discover stress management tools and how to reach positive and motivating personal\, professional\, athletic\, artistic and developmental goals through the basic principles of Educational Kinesthetics.
URL:https://braingymcanada.ca/course/brain-gym-101-online/2024-03-13/
LOCATION:Online
CATEGORIES:26 Movements,Brain Gym 101
ATTACH;FMTTYPE=image/png:https://braingymcanada.ca/wp-content/uploads/2024/01/BG101-course-notice-no-dates-500-X-200-3.png
ORGANIZER;CN="Tanya Mouland":MAILTO:tanya@thesportoflife.ca
END:VEVENT
BEGIN:VEVENT
DTSTART;TZID=America/Toronto:20240314T180000
DTEND;TZID=America/Toronto:20240314T210000
DTSTAMP:20260423T125836
CREATED:20240210T154711Z
LAST-MODIFIED:20240210T160257Z
UID:10001512-1710439200-1710450000@braingymcanada.ca
SUMMARY:Brain Gym 101
DESCRIPTION:Faites l’expérience de l’intégration de tout le cerveau grâce aux mouvements de tout le corps. Apprenez les 26 activités Brain Gym\, les cinq étapes d’Edu-K pour un apprentissage facile et le remodelage latéral de Dennison tout en découvrant un outil passionnant pour atteindre vos objectifs personnels. Ce que ce cours transmet peut être appliqué par les étudiants\, les enseignants\, les parents\, les artistes\, les athlètes\, les travailleurs de la santé\, les professionnels du monde des affaires. . . vous l’appelez! (Les prix des cours varient selon l’instructeur et l’emplacement. Veuillez contacter le sponsor pour connaître le prix actuel.) REMARQUE : Si vous ne parvenez pas à trouver un cours de Brain Gym dans votre région\, consultez « instructeurs disposés à voyager » dans le menu des instructeurs.
URL:https://braingymcanada.ca/course/brain-gym-101-3/2024-03-14/
LOCATION:Online
CATEGORIES:Brain Gym 101
ORGANIZER;CN="Lysanne Dugr%C3%A9":MAILTO:alessentiel.lysanne@gmail.com
END:VEVENT
BEGIN:VEVENT
DTSTART;TZID=America/Toronto:20240321T180000
DTEND;TZID=America/Toronto:20240321T210000
DTSTAMP:20260423T125836
CREATED:20240210T154711Z
LAST-MODIFIED:20240210T160257Z
UID:10001513-1711044000-1711054800@braingymcanada.ca
SUMMARY:Brain Gym 101
DESCRIPTION:Faites l’expérience de l’intégration de tout le cerveau grâce aux mouvements de tout le corps. Apprenez les 26 activités Brain Gym\, les cinq étapes d’Edu-K pour un apprentissage facile et le remodelage latéral de Dennison tout en découvrant un outil passionnant pour atteindre vos objectifs personnels. Ce que ce cours transmet peut être appliqué par les étudiants\, les enseignants\, les parents\, les artistes\, les athlètes\, les travailleurs de la santé\, les professionnels du monde des affaires. . . vous l’appelez! (Les prix des cours varient selon l’instructeur et l’emplacement. Veuillez contacter le sponsor pour connaître le prix actuel.) REMARQUE : Si vous ne parvenez pas à trouver un cours de Brain Gym dans votre région\, consultez « instructeurs disposés à voyager » dans le menu des instructeurs.
URL:https://braingymcanada.ca/course/brain-gym-101-3/2024-03-21/
LOCATION:Online
CATEGORIES:Brain Gym 101
ORGANIZER;CN="Lysanne Dugr%C3%A9":MAILTO:alessentiel.lysanne@gmail.com
END:VEVENT
BEGIN:VEVENT
DTSTART;TZID=America/Toronto:20240328T180000
DTEND;TZID=America/Toronto:20240328T210000
DTSTAMP:20260423T125836
CREATED:20240210T154711Z
LAST-MODIFIED:20240210T160257Z
UID:10001514-1711648800-1711659600@braingymcanada.ca
SUMMARY:Brain Gym 101
DESCRIPTION:Faites l’expérience de l’intégration de tout le cerveau grâce aux mouvements de tout le corps. Apprenez les 26 activités Brain Gym\, les cinq étapes d’Edu-K pour un apprentissage facile et le remodelage latéral de Dennison tout en découvrant un outil passionnant pour atteindre vos objectifs personnels. Ce que ce cours transmet peut être appliqué par les étudiants\, les enseignants\, les parents\, les artistes\, les athlètes\, les travailleurs de la santé\, les professionnels du monde des affaires. . . vous l’appelez! (Les prix des cours varient selon l’instructeur et l’emplacement. Veuillez contacter le sponsor pour connaître le prix actuel.) REMARQUE : Si vous ne parvenez pas à trouver un cours de Brain Gym dans votre région\, consultez « instructeurs disposés à voyager » dans le menu des instructeurs.
URL:https://braingymcanada.ca/course/brain-gym-101-3/2024-03-28/
LOCATION:Online
CATEGORIES:Brain Gym 101
ORGANIZER;CN="Lysanne Dugr%C3%A9":MAILTO:alessentiel.lysanne@gmail.com
END:VEVENT
END:VCALENDAR