BEGIN:VCALENDAR
VERSION:2.0
PRODID:-// - ECPv6.15.20//NONSGML v1.0//EN
CALSCALE:GREGORIAN
METHOD:PUBLISH
X-ORIGINAL-URL:https://braingymcanada.ca
X-WR-CALDESC:Events for 
REFRESH-INTERVAL;VALUE=DURATION:PT1H
X-Robots-Tag:noindex
X-PUBLISHED-TTL:PT1H
BEGIN:VTIMEZONE
TZID:America/Toronto
BEGIN:DAYLIGHT
TZOFFSETFROM:-0500
TZOFFSETTO:-0400
TZNAME:EDT
DTSTART:20220313T070000
END:DAYLIGHT
BEGIN:STANDARD
TZOFFSETFROM:-0400
TZOFFSETTO:-0500
TZNAME:EST
DTSTART:20221106T060000
END:STANDARD
BEGIN:DAYLIGHT
TZOFFSETFROM:-0500
TZOFFSETTO:-0400
TZNAME:EDT
DTSTART:20230312T070000
END:DAYLIGHT
BEGIN:STANDARD
TZOFFSETFROM:-0400
TZOFFSETTO:-0500
TZNAME:EST
DTSTART:20231105T060000
END:STANDARD
BEGIN:DAYLIGHT
TZOFFSETFROM:-0500
TZOFFSETTO:-0400
TZNAME:EDT
DTSTART:20240310T070000
END:DAYLIGHT
BEGIN:STANDARD
TZOFFSETFROM:-0400
TZOFFSETTO:-0500
TZNAME:EST
DTSTART:20241103T060000
END:STANDARD
END:VTIMEZONE
BEGIN:VEVENT
DTSTART;TZID=America/Toronto:20230624T083000
DTEND;TZID=America/Toronto:20230724T100000
DTSTAMP:20260425T171804
CREATED:20230618T235229Z
LAST-MODIFIED:20230618T235628Z
UID:10001359-1687595400-1690192800@braingymcanada.ca
SUMMARY:Self-Regulation and Active Learning Session I
DESCRIPTION:A toolbox of movement activities for the classroom that assist students to develop body awareness and control\, calm their nervous systems\, sooth themselves when emotionally overwhelmed and be present and ready to learn. Session I focuses on alignment and balance for active\, stress-free learning. Activities are drawn from Brain Gym®\, Movement Exploration\, Body Mind Centering\, Taiji Qigong\, and over 25 years of experience teaching in preschools and as an artist in residence. The activities have been adapted for use in classrooms with limited space.
URL:https://braingymcanada.ca/course/self-regulation-and-active-learning-session-i/
LOCATION:Zoom\, zoom.us
CATEGORIES:Other
ATTACH;FMTTYPE=image/jpeg:https://braingymcanada.ca/wp-content/uploads/2023/06/HookupsTSIMG_7165Adj.jpg
ORGANIZER;CN="Dana Luebke":MAILTO:dana.luebke@sunergos.com
END:VEVENT
BEGIN:VEVENT
DTSTART;TZID=America/Toronto:20230627T183000
DTEND;TZID=America/Toronto:20230627T213000
DTSTAMP:20260425T171804
CREATED:20230429T220142Z
LAST-MODIFIED:20230429T220142Z
UID:10001358-1687890600-1687901400@braingymcanada.ca
SUMMARY:BG101
DESCRIPTION:Experience whole-brain integration through whole-body movement! Learn the 26 Brain Gym activities\, Edu-K’s Five Steps to Easy Learning\, and Dennison Laterality Repatterning as you discover an exciting tool for reaching personal goals. This course is the gateway to the Movement-Based Learning Program known as Brain Gym®\, it is a practical and easily applied use of this approach. We begin to understand why learning difficulties may occur by observing our physical and emotional sensations\, thereby offering the possibility of changing the way we act and interact. Discover stress management tools and how to reach positive and motivating personal\, professional\, athletic\, artistic and developmental goals through the basic principles of Educational Kinesthetics.
URL:https://braingymcanada.ca/course/bg101/2023-06-27/
LOCATION:Online
CATEGORIES:Brain Gym 101
ATTACH;FMTTYPE=image/png:https://braingymcanada.ca/wp-content/uploads/2023/04/BG101-FB-Post.png
ORGANIZER;CN="Sonya Sommerville":MAILTO:sonya@beatofadifferentdrum.com
END:VEVENT
END:VCALENDAR