BEGIN:VCALENDAR
VERSION:2.0
PRODID:-// - ECPv6.15.20//NONSGML v1.0//EN
CALSCALE:GREGORIAN
METHOD:PUBLISH
X-ORIGINAL-URL:https://braingymcanada.ca
X-WR-CALDESC:Events for 
REFRESH-INTERVAL;VALUE=DURATION:PT1H
X-Robots-Tag:noindex
X-PUBLISHED-TTL:PT1H
BEGIN:VTIMEZONE
TZID:America/Toronto
BEGIN:DAYLIGHT
TZOFFSETFROM:-0500
TZOFFSETTO:-0400
TZNAME:EDT
DTSTART:20230312T070000
END:DAYLIGHT
BEGIN:STANDARD
TZOFFSETFROM:-0400
TZOFFSETTO:-0500
TZNAME:EST
DTSTART:20231105T060000
END:STANDARD
BEGIN:DAYLIGHT
TZOFFSETFROM:-0500
TZOFFSETTO:-0400
TZNAME:EDT
DTSTART:20240310T070000
END:DAYLIGHT
BEGIN:STANDARD
TZOFFSETFROM:-0400
TZOFFSETTO:-0500
TZNAME:EST
DTSTART:20241103T060000
END:STANDARD
BEGIN:DAYLIGHT
TZOFFSETFROM:-0500
TZOFFSETTO:-0400
TZNAME:EDT
DTSTART:20250309T070000
END:DAYLIGHT
BEGIN:STANDARD
TZOFFSETFROM:-0400
TZOFFSETTO:-0500
TZNAME:EST
DTSTART:20251102T060000
END:STANDARD
END:VTIMEZONE
BEGIN:VEVENT
DTSTART;TZID=America/Toronto:20240308T120000
DTEND;TZID=America/Toronto:20240308T130000
DTSTAMP:20260423T153008
CREATED:20240210T153214Z
LAST-MODIFIED:20240210T153214Z
UID:10001498-1709899200-1709902800@braingymcanada.ca
SUMMARY:WEEKLY WELLNESS AND BRAINGYM BALANCES- MIEUX-ETRE ET ÉQUILIBRAGE BRAINGYM
DESCRIPTION:1st set of 5 workhops  or 1 workshop if you are not available for the 5   Zoom platform\nHello\, I’m offering dynamic workshops\, linked to a theme of daily well-being based on the reactions of the brain. We will be experiencing a balancing related to the theme. Really interesting\, applicable in our daily life right after the end of the workshop and very fun! Here are some examples but I can adapted my workshops if there are requests for other themes.\nLooking forward to learning and moving together! 12h00-13h00(Québec time) 55$ or 13$ par workshop if you are not available for the 5 sessions.\n1ère série de 5 ateliers\nBonjour ! je vous propose des ateliers dynamiques\, reliés à un thème de mieux-être au quotidien en me basant sur les réactions du cerveau. Nous effectuons un équilibrage en lien avec le thème. Vraiment intéressant\, applicable dans notre vie quotidienne dès la fin de l’atelier et très amusant. Voici des exemples mais je suis ouverte à adapter mes ateliers s’il y a des demandes pour d’autres thèmes\nAu plaisir d’apprendre et de bouger ensemble!12h00-13h00 (Québec time) 55$ pour la série ou 13 $ par atelier si vous n’étés pas disponible pour les 5 rencontres.
URL:https://braingymcanada.ca/course/weekly-wellness-and-braingym-balances-mieux-etre-et-equilibrage-braingym/2024-03-08/
LOCATION:Online
CATEGORIES:Other
ORGANIZER;CN="Lysanne Dugr%C3%A9":MAILTO:alessentiel.lysanne@gmail.com
END:VEVENT
BEGIN:VEVENT
DTSTART;TZID=America/Toronto:20240315T120000
DTEND;TZID=America/Toronto:20240315T130000
DTSTAMP:20260423T153008
CREATED:20240210T153214Z
LAST-MODIFIED:20240210T153214Z
UID:10001499-1710504000-1710507600@braingymcanada.ca
SUMMARY:WEEKLY WELLNESS AND BRAINGYM BALANCES- MIEUX-ETRE ET ÉQUILIBRAGE BRAINGYM
DESCRIPTION:1st set of 5 workhops  or 1 workshop if you are not available for the 5   Zoom platform\nHello\, I’m offering dynamic workshops\, linked to a theme of daily well-being based on the reactions of the brain. We will be experiencing a balancing related to the theme. Really interesting\, applicable in our daily life right after the end of the workshop and very fun! Here are some examples but I can adapted my workshops if there are requests for other themes.\nLooking forward to learning and moving together! 12h00-13h00(Québec time) 55$ or 13$ par workshop if you are not available for the 5 sessions.\n1ère série de 5 ateliers\nBonjour ! je vous propose des ateliers dynamiques\, reliés à un thème de mieux-être au quotidien en me basant sur les réactions du cerveau. Nous effectuons un équilibrage en lien avec le thème. Vraiment intéressant\, applicable dans notre vie quotidienne dès la fin de l’atelier et très amusant. Voici des exemples mais je suis ouverte à adapter mes ateliers s’il y a des demandes pour d’autres thèmes\nAu plaisir d’apprendre et de bouger ensemble!12h00-13h00 (Québec time) 55$ pour la série ou 13 $ par atelier si vous n’étés pas disponible pour les 5 rencontres.
URL:https://braingymcanada.ca/course/weekly-wellness-and-braingym-balances-mieux-etre-et-equilibrage-braingym/2024-03-15/
LOCATION:Online
CATEGORIES:Other
ORGANIZER;CN="Lysanne Dugr%C3%A9":MAILTO:alessentiel.lysanne@gmail.com
END:VEVENT
BEGIN:VEVENT
DTSTART;TZID=America/Toronto:20240322T120000
DTEND;TZID=America/Toronto:20240322T130000
DTSTAMP:20260423T153008
CREATED:20240210T153214Z
LAST-MODIFIED:20240210T153214Z
UID:10001500-1711108800-1711112400@braingymcanada.ca
SUMMARY:WEEKLY WELLNESS AND BRAINGYM BALANCES- MIEUX-ETRE ET ÉQUILIBRAGE BRAINGYM
DESCRIPTION:1st set of 5 workhops  or 1 workshop if you are not available for the 5   Zoom platform\nHello\, I’m offering dynamic workshops\, linked to a theme of daily well-being based on the reactions of the brain. We will be experiencing a balancing related to the theme. Really interesting\, applicable in our daily life right after the end of the workshop and very fun! Here are some examples but I can adapted my workshops if there are requests for other themes.\nLooking forward to learning and moving together! 12h00-13h00(Québec time) 55$ or 13$ par workshop if you are not available for the 5 sessions.\n1ère série de 5 ateliers\nBonjour ! je vous propose des ateliers dynamiques\, reliés à un thème de mieux-être au quotidien en me basant sur les réactions du cerveau. Nous effectuons un équilibrage en lien avec le thème. Vraiment intéressant\, applicable dans notre vie quotidienne dès la fin de l’atelier et très amusant. Voici des exemples mais je suis ouverte à adapter mes ateliers s’il y a des demandes pour d’autres thèmes\nAu plaisir d’apprendre et de bouger ensemble!12h00-13h00 (Québec time) 55$ pour la série ou 13 $ par atelier si vous n’étés pas disponible pour les 5 rencontres.
URL:https://braingymcanada.ca/course/weekly-wellness-and-braingym-balances-mieux-etre-et-equilibrage-braingym/2024-03-22/
LOCATION:Online
CATEGORIES:Other
ORGANIZER;CN="Lysanne Dugr%C3%A9":MAILTO:alessentiel.lysanne@gmail.com
END:VEVENT
BEGIN:VEVENT
DTSTART;TZID=America/Toronto:20240329T120000
DTEND;TZID=America/Toronto:20240329T130000
DTSTAMP:20260423T153008
CREATED:20240210T153214Z
LAST-MODIFIED:20240210T153214Z
UID:10001501-1711713600-1711717200@braingymcanada.ca
SUMMARY:WEEKLY WELLNESS AND BRAINGYM BALANCES- MIEUX-ETRE ET ÉQUILIBRAGE BRAINGYM
DESCRIPTION:1st set of 5 workhops  or 1 workshop if you are not available for the 5   Zoom platform\nHello\, I’m offering dynamic workshops\, linked to a theme of daily well-being based on the reactions of the brain. We will be experiencing a balancing related to the theme. Really interesting\, applicable in our daily life right after the end of the workshop and very fun! Here are some examples but I can adapted my workshops if there are requests for other themes.\nLooking forward to learning and moving together! 12h00-13h00(Québec time) 55$ or 13$ par workshop if you are not available for the 5 sessions.\n1ère série de 5 ateliers\nBonjour ! je vous propose des ateliers dynamiques\, reliés à un thème de mieux-être au quotidien en me basant sur les réactions du cerveau. Nous effectuons un équilibrage en lien avec le thème. Vraiment intéressant\, applicable dans notre vie quotidienne dès la fin de l’atelier et très amusant. Voici des exemples mais je suis ouverte à adapter mes ateliers s’il y a des demandes pour d’autres thèmes\nAu plaisir d’apprendre et de bouger ensemble!12h00-13h00 (Québec time) 55$ pour la série ou 13 $ par atelier si vous n’étés pas disponible pour les 5 rencontres.
URL:https://braingymcanada.ca/course/weekly-wellness-and-braingym-balances-mieux-etre-et-equilibrage-braingym/2024-03-29/
LOCATION:Online
CATEGORIES:Other
ORGANIZER;CN="Lysanne Dugr%C3%A9":MAILTO:alessentiel.lysanne@gmail.com
END:VEVENT
END:VCALENDAR